BEGIN:VCALENDAR
VERSION:2.0
PRODID:-//Tukios.com/
BEGIN:VEVENT
UID:54cac8b4-053b-4a53-9095-65ea5b086952@www.williamsfuneraldirectors.net
DTSTAMP:20260425T101710Z
DTSTART:20260425T160000Z
DTEND:20260425T170000Z
SUMMARY:Funeral for Patricia Ann Woods
DESCRIPTION:
URL:https://www.williamsfuneraldirectors.net/obituaries/patricia-woods
LOCATION:Ward Chapel Church 500 Sycamore Street  Augusta AR 72006
GEO:35.2796967;-91.3634939
END:VEVENT
END:VCALENDAR